{"text_format":"1","workbook":"xlsx","n_sheets":6,"sheets":["学校用申込","学校用選手変更届","学校用冊子データ","クラブチーム用申込","クラブチーム用選手変更届","クラブチーム用冊子データ"],"not_rendered":{"charts":0,"images":0,"macros":1,"external_links":0,"defined_names":4,"comments":2,"pivot_tables":0},"unopened":[],"bounds":{"document_bytes":16777216,"sheet_cells":100000,"rows_first":2000,"rows_last":500,"rows_between":2000,"halvings":0,"cell_chars":16384,"cell_head_chars":4096},"cells_cut":0,"cells_raw":0,"read":"whole","date_system":"1900"}

{"sheet":"学校用申込","index":0,"n_rows":86,"n_cols":20,"rows_kept":86,"cut":false,"hidden":false,"merged":[[56,19,57,19],[56,20,57,20],[58,19,59,19],[58,20,59,20],[46,19,47,19],[46,20,47,20],[48,19,49,19],[48,20,49,20],[50,19,51,19],[50,20,51,20],[52,19,53,19],[52,20,53,20],[54,19,55,19],[54,20,55,20],[36,19,37,19],[36,20,37,20],[38,19,39,19],[38,20,39,20],[40,19,41,19],[40,20,41,20],[42,19,43,19],[42,20,43,20],[44,19,45,19],[44,20,45,20],[26,19,27,19],[26,20,27,20],[28,19,29,19],[28,20,29,20],[30,19,31,19],[30,20,31,20],[32,19,33,19],[32,20,33,20],[34,19,35,19],[34,20,35,20],[68,0,69,1],[68,2,69,6],[68,7,69,8],[68,10,69,10],[68,11,69,16],[68,17,69,17],[0,19,2,20],[3,19,3,20],[10,19,11,19],[10,20,11,20],[12,19,13,19],[12,20,13,20],[14,19,15,19],[14,20,15,20],[16,19,17,19],[16,20,17,20],[18,19,19,19],[18,20,19,20],[20,19,21,19],[20,20,21,20],[22,19,23,19],[22,20,23,20],[24,19,25,19],[24,20,25,20],[54,1,55,2],[54,3,55,4],[54,5,55,9],[63,7,64,8],[63,2,64,6],[63,0,64,1],[1,1,1,18],[18,18,19,18],[16,18,17,18],[14,18,15,18],[12,18,13,18],[10,18,11,18],[58,18,59,18],[56,18,57,18],[54,18,55,18],[52,18,53,18],[50,18,51,18],[48,18,49,18],[46,18,47,18],[44,18,45,18],[42,18,43,18],[40,18,41,18],[38,18,39,18],[36,18,37,18],[58,17,59,17],[56,1,57,2],[56,3,57,4],[56,5,57,9],[56,10,57,10],[56,11,57,11],[56,12,57,12],[56,13,57,14],[56,17,57,17],[58,1,59,2],[58,3,59,4],[58,5,59,9],[58,10,59,10],[58,11,59,11],[58,12,59,12],[58,13,59,14],[58,15,59,15],[58,16,59,16],[56,16,57,16],[40,1,41,2],[42,1,43,2],[44,1,45,2],[46,16,47,16],[40,15,41,15],[48,1,49,2],[52,15,53,15],[46,1,47,2],[28,18,29,18],[52,17,53,17],[34,18,35,18],[32,18,33,18],[30,18,31,18],[28,1,29,2],[32,1,33,2],[34,1,35,2],[36,1,37,2],[32,10,33,10],[52,1,53,2],[52,3,53,4],[52,5,53,9],[52,10,53,10],[52,11,53,11],[52,12,53,12],[52,13,53,14],[52,16,53,16],[50,3,51,4],[50,5,51,9],[50,10,51,10],[50,11,51,11],[50,12,51,12],[50,13,51,14],[50,15,51,15],[50,17,51,17],[4,13,4,18],[5,13,5,18],[6,13,6,18],[48,17,49,17],[40,17,41,17],[42,17,43,17],[44,17,45,17],[46,17,47,17],[36,17,37,17],[32,17,33,17],[38,17,39,17],[30,15,31,15],[48,15,49,15],[9,13,9,14],[9,15,9,17],[10,16,11,16],[10,17,11,17],[12,16,13,16],[42,15,43,15],[26,18,27,18],[7,9,7,11],[7,13,7,18],[20,17,21,17],[28,17,29,17],[16,17,17,17],[18,17,19,17],[26,13,27,14],[22,13,23,14],[24,13,25,14],[16,16,17,16],[16,13,17,14],[18,13,19,14],[20,13,21,14],[20,15,21,15],[18,16,19,16],[16,12,17,12],[18,12,19,12],[28,15,29,15],[16,15,17,15],[16,10,17,10],[10,5,11,9],[14,17,15,17],[3,13,3,14],[3,15,3,18],[4,9,4,11],[5,9,5,11],[6,9,6,11],[24,18,25,18],[22,18,23,18],[20,18,21,18],[24,11,25,11],[20,16,21,16],[14,16,15,16],[14,15,15,15],[34,17,35,17],[22,17,23,17],[24,17,25,17],[26,17,27,17],[28,13,29,14],[30,13,31,14],[32,13,33,14],[34,13,35,14],[32,15,33,15],[32,16,33,16],[34,15,35,15],[22,15,23,15],[22,16,23,16],[30,17,31,17],[28,5,29,9],[26,11,27,11],[0,1,0,17],[10,3,11,4],[12,3,13,4],[14,3,15,4],[16,3,17,4],[18,15,19,15],[10,13,11,14],[12,13,13,14],[14,13,15,14],[12,12,13,12],[14,12,15,12],[12,11,13,11],[14,11,15,11],[10,15,11,15],[12,15,13,15],[16,11,17,11],[18,11,19,11],[22,12,23,12],[26,12,27,12],[10,10,11,10],[12,10,13,10],[12,17,13,17],[46,3,47,4],[44,3,45,4],[32,3,33,4],[34,3,35,4],[36,3,37,4],[38,13,39,14],[40,13,41,14],[42,13,43,14],[40,11,41,11],[38,5,39,9],[38,10,39,10],[36,10,37,10],[34,12,35,12],[36,13,37,14],[46,13,47,14],[44,13,45,14],[28,16,29,16],[30,16,31,16],[44,16,45,16],[38,16,39,16],[34,16,35,16],[36,15,37,15],[28,12,29,12],[30,12,31,12],[32,11,33,11],[34,11,35,11],[36,11,37,11],[38,11,39,11],[28,11,29,11],[24,1,25,2],[26,1,27,2],[24,16,25,16],[26,15,27,15],[24,3,25,4],[26,3,27,4],[26,10,27,10],[24,10,25,10],[24,15,25,15],[24,12,25,12],[24,5,25,9],[26,16,27,16],[26,5,27,9],[22,1,23,2],[18,3,19,4],[20,3,21,4],[22,3,23,4],[20,10,21,10],[22,10,23,10],[20,11,21,11],[22,11,23,11],[14,10,15,10],[16,5,17,9],[14,5,15,9],[14,1,15,2],[16,1,17,2],[22,5,23,9],[7,1,7,2],[3,5,3,12],[3,1,3,4],[18,5,19,9],[18,10,19,10],[20,12,21,12],[20,5,21,9],[18,1,19,2],[20,1,21,2],[4,3,4,8],[5,3,5,8],[6,3,6,8],[4,1,4,2],[9,3,9,4],[9,1,9,2],[10,1,11,2],[6,1,6,2],[12,1,13,2],[5,1,5,2],[12,5,13,9],[10,11,11,11],[10,12,11,12],[9,5,9,9],[7,3,7,8],[54,17,55,17],[28,3,29,4],[30,10,31,10],[28,10,29,10],[48,11,49,11],[48,12,49,12],[48,3,49,4],[48,5,49,9],[48,10,49,10],[48,13,49,14],[34,5,35,9],[34,10,35,10],[40,5,41,9],[44,12,45,12],[40,12,41,12],[42,12,43,12],[38,3,39,4],[40,3,41,4],[30,3,31,4],[30,11,31,11],[32,12,33,12],[46,11,47,11],[46,12,47,12],[36,12,37,12],[42,5,43,9],[42,10,43,10],[44,5,45,9],[44,10,45,10],[48,16,49,16],[40,16,41,16],[56,15,57,15],[36,5,37,9],[46,5,47,9],[46,10,47,10],[36,16,37,16],[54,10,55,10],[54,11,55,11],[54,12,55,12],[54,13,55,14],[54,15,55,15],[54,16,55,16],[38,12,39,12],[38,15,39,15],[42,11,43,11],[42,16,43,16],[44,15,45,15],[50,16,51,16],[46,15,47,15],[38,1,39,2],[32,5,33,9],[30,1,31,2],[44,11,45,11],[42,3,43,4],[85,1,88,4],[85,5,88,17],[85,18,88,18],[73,1,76,4],[73,5,76,17],[72,1,72,17],[73,18,76,18],[77,1,80,4],[77,5,80,17],[77,18,80,18],[81,1,84,4],[81,5,84,17],[81,18,84,18],[30,5,31,9],[50,1,51,2],[63,17,64,17],[63,11,64,16],[63,10,64,10],[40,10,41,10]]}
[null,null,null,null,null,null,null,null,null,null,null,null,null,null,null,null,null,null,null,"下部の情報公開とは、冊子用の情報を公開するということです。連絡先は冊子に載せません。"]
[null,"第67回中頭地区中体連新人軟式野球大会申込書"]
[]
[null,"学校名",null,null,null,null,null,null,null,null,null,null,null,"学校TEL",null,null,null,null,null,"情報公開を承諾しますか"]
[null,"監　督",null,null,null,null,null,null,null,"（教職員・部活動指導員）",null,null,"監督連絡先"]
[null,"コーチ",null,null,null,null,null,null,null,"（教職員・部活動指導員）",null,null,"主　将"]
[null,"コーチ",null,null,null,null,null,null,null,"（教職員・外部）",null,null,"マネージャー"]
[null,"トレーナー",null,null,null,null,null,null,null,"※有資格者に限る",null,null,"スコアラー"]
[]
[null,"背番号",null,"位　置",null,"選　手　名",null,null,null,null,"ふりがな","学　年","身　長","体　重",null,"投　打",null,null,"合同チーム校名"]
[null,1,null,"投　手",null,null,null,null,null,null,null,null,null,null,null,null,"・"]
[]
[null,2,null,"捕　手",null,null,null,null,null,null,null,null,null,null,null,null,"・"]
[]
[null,3,null,"一塁手",null,null,null,null,null,null,null,null,null,null,null,null,"・"]
[]
[null,4,null,"二塁手",null,null,null,null,null,null,null,null,null,null,null,null,"・"]
[]
[null,5,null,"三塁手",null,null,null,null,null,null,null,null,null,null,null,null,"・"]
[]
[null,6,null,"遊撃手",null,null,null,null,null,null,null,null,null,null,null,null,"・"]
[]
[null,7,null,"左翼手",null,null,null,null,null,null,null,null,null,null,null,null,"・"]
[]
[null,8,null,"中堅手",null,null,null,null,null,null,null,null,null,null,null,null,"・"]
[]
[null,9,null,"右翼手",null,null,null,null,null,null,null,null,null,null,null,null,"・"]
[]
[null,10,null,"補　員",null,null,null,null,null,null,null,null,null,null,null,null,"・"]
[]
[null,11,null,"〃",null,null,null,null,null,null,null,null,null,null,null,null,"・"]
[]
[null,12,null,"〃",null,null,null,null,null,null,null,null,null,null,null,null,"・"]
[]
[null,13,null,"〃",null,null,null,null,null,null,null,null,null,null,null,null,"・"]
[]
[null,14,null,"〃",null,null,null,null,null,null,null,null,null,null,null,null,"・"]
[]
[null,15,null,"〃",null,null,null,null,null,null,null,null,null,null,null,null,"・"]
[]
[null,16,null,"〃",null,null,null,null,null,null,null,null,null,null,null,null,"・"]
[]
[null,17,null,"〃",null,null,null,null,null,null,null,null,null,null,null,null,"・"]
[]
[null,18,null,"〃",null,null,null,null,null,null,null,null,null,null,null,null,"・"]
[]
[null,19,null,"〃",null,null,null,null,null,null,null,null,null,null,null,null,"・"]
[]
[null,20,null,"〃",null,null,null,null,null,null,null,null,null,null,null,null,"・"]
[]
[null,21,null,"〃",null,null,null,null,null,null,null,null,null,null,null,null,"・"]
[]
[null,22,null,"〃",null,null,null,null,null,null,null,null,null,null,null,null,"・"]
[]
[null,23,null,"〃",null,null,null,null,null,null,null,null,null,null,null,null,"・"]
[]
[null,24,null,"〃",null,null,null,null,null,null,null,null,null,null,null,null,"・"]
[]
[null,25,null,"〃",null,null,null,null,null,null,null,null,null,null,null,null,"・"]
[]
[]
[null,null,null,null,null,null,null,null,null,null,"上記の通り、大会参加を申し込みます。"]
[null,"令和",5,"年",null,"月",null,"日"]
["学校名",null,null,null,null,null,null,"中学校",null,null,"学校長",null,null,null,null,null,null,"印"]
[]
[]
[null,null,null,null,null,null,null,null,null,null,"上記の通り、大会参加を申し込みます。"]
[null,"令和",5,"年",null,"月",null,"日"]
["学校名",null,null,null,null,null,null,"中学校",null,null,"学校長",null,null,null,null,null,null,"印"]
[]
[]
[]
[null,"チーム戦力分析（６０字以内）",null,null,null,null,null,null,null,null,null,null,null,null,null,null,null,null,"５段階評価"]
[null,"チームの特色\n総合力",null,null,null,"※「Alt＋エンターキー」での行替えをは、行わないで下さい。この文は消去して使って下さい。",null,null,null,null,null,null,null,null,null,null,null,null,3]
[]
[]
[]
[null,"打撃力",null,null,null,null,null,null,null,null,null,null,null,null,null,null,null,null,3]
[]
[]
[]
[null,"守備力",null,null,null,null,null,null,null,null,null,null,null,null,null,null,null,null,3]
[]
[]
[]
[null,"投手力",null,null,null,null,null,null,null,null,null,null,null,null,null,null,null,null,3]

{"sheet":"学校用選手変更届","index":1,"n_rows":68,"n_cols":19,"rows_kept":68,"cut":false,"hidden":false,"merged":[[63,2,64,4],[63,5,64,7],[63,10,64,10],[63,11,64,13],[63,14,64,15],[67,2,68,4],[67,5,68,7],[67,10,68,10],[67,11,68,13],[67,14,68,15],[59,1,60,2],[59,3,60,4],[59,5,60,9],[59,10,60,10],[59,17,60,17],[59,18,60,18],[57,1,58,2],[57,3,58,4],[57,5,58,9],[57,10,58,10],[57,11,58,11],[57,12,58,12],[57,13,58,14],[57,15,58,15],[59,12,60,12],[59,13,60,14],[59,15,60,15],[59,16,60,16],[59,11,60,11],[57,16,58,16],[57,17,58,17],[57,18,58,18],[55,12,56,12],[55,13,56,14],[55,15,56,15],[53,16,54,16],[53,17,54,17],[53,18,54,18],[55,1,56,2],[55,3,56,4],[55,5,56,9],[55,10,56,10],[55,11,56,11],[53,1,54,2],[53,3,54,4],[53,5,54,9],[53,10,54,10],[53,11,54,11],[53,12,54,12],[53,13,54,14],[53,15,54,15],[55,16,56,16],[55,17,56,17],[55,18,56,18],[51,1,52,2],[51,3,52,4],[51,5,52,9],[51,10,52,10],[51,11,52,11],[51,16,52,16],[51,17,52,17],[51,18,52,18],[49,1,50,2],[49,3,50,4],[49,5,50,9],[49,10,50,10],[49,11,50,11],[49,12,50,12],[49,13,50,14],[49,15,50,15],[51,12,52,12],[51,13,52,14],[51,15,52,15],[49,16,50,16],[49,17,50,17],[49,18,50,18],[47,12,48,12],[47,13,48,14],[47,15,48,15],[45,16,46,16],[45,17,46,17],[45,18,46,18],[47,1,48,2],[47,3,48,4],[47,5,48,9],[47,10,48,10],[47,11,48,11],[47,16,48,16],[47,17,48,17],[47,18,48,18],[45,1,46,2],[45,3,46,4],[45,5,46,9],[45,10,46,10],[45,11,46,11],[45,12,46,12],[45,13,46,14],[45,15,46,15],[43,1,44,2],[43,3,44,4],[43,5,44,9],[43,10,44,10],[43,11,44,11],[43,16,44,16],[43,17,44,17],[43,18,44,18],[41,1,42,2],[41,3,42,4],[41,5,42,9],[41,10,42,10],[41,11,42,11],[41,12,42,12],[41,13,42,14],[41,15,42,15],[43,12,44,12],[43,13,44,14],[43,15,44,15],[41,16,42,16],[41,17,42,17],[41,18,42,18],[39,12,40,12],[39,13,40,14],[39,15,40,15],[37,16,38,16],[37,17,38,17],[37,18,38,18],[39,1,40,2],[39,3,40,4],[39,5,40,9],[39,10,40,10],[39,11,40,11],[39,16,40,16],[39,17,40,17],[39,18,40,18],[37,1,38,2],[37,3,38,4],[37,5,38,9],[37,10,38,10],[37,11,38,11],[37,12,38,12],[37,13,38,14],[37,15,38,15],[35,1,36,2],[35,3,36,4],[35,5,36,9],[35,10,36,10],[35,11,36,11],[35,16,36,16],[35,17,36,17],[35,18,36,18],[33,1,34,2],[33,3,34,4],[33,5,34,9],[33,10,34,10],[33,11,34,11],[33,12,34,12],[33,13,34,14],[33,15,34,15],[35,12,36,12],[35,13,36,14],[35,15,36,15],[33,16,34,16],[33,17,34,17],[33,18,34,18],[31,12,32,12],[31,13,32,14],[31,15,32,15],[29,16,30,16],[29,17,30,17],[29,18,30,18],[31,1,32,2],[31,3,32,4],[31,5,32,9],[31,10,32,10],[31,11,32,11],[31,16,32,16],[31,17,32,17],[31,18,32,18],[29,1,30,2],[29,3,30,4],[29,5,30,9],[29,10,30,10],[29,11,30,11],[29,12,30,12],[29,13,30,14],[29,15,30,15],[27,1,28,2],[27,3,28,4],[27,5,28,9],[27,10,28,10],[27,11,28,11],[27,16,28,16],[27,17,28,17],[27,18,28,18],[25,1,26,2],[25,3,26,4],[25,5,26,9],[25,10,26,10],[25,11,26,11],[25,12,26,12],[25,13,26,14],[25,15,26,15],[27,12,28,12],[27,13,28,14],[27,15,28,15],[25,16,26,16],[25,17,26,17],[25,18,26,18],[23,12,24,12],[23,13,24,14],[23,15,24,15],[21,16,22,16],[21,17,22,17],[21,18,22,18],[23,1,24,2],[23,3,24,4],[23,5,24,9],[23,10,24,10],[23,11,24,11],[23,16,24,16],[23,17,24,17],[23,18,24,18],[21,1,22,2],[21,3,22,4],[21,5,22,9],[21,10,22,10],[21,11,22,11],[21,12,22,12],[17,18,18,18],[19,1,20,2],[19,3,20,4],[19,5,20,9],[19,10,20,10],[19,11,20,11],[19,16,20,16],[19,17,20,17],[19,18,20,18],[15,10,16,10],[15,11,16,11],[15,12,16,12],[17,16,18,16],[17,17,18,17],[21,13,22,14],[21,15,22,15],[19,12,20,12],[19,13,20,14],[19,15,20,15],[13,15,14,15],[13,16,14,16],[13,17,14,17],[13,18,14,18],[11,15,12,15],[11,16,12,16],[11,17,12,17],[11,18,12,18],[17,1,18,2],[17,3,18,4],[17,5,18,9],[17,10,18,10],[17,11,18,11],[17,12,18,12],[17,13,18,14],[17,15,18,15],[15,13,16,14],[15,15,16,15],[15,16,16,16],[15,17,16,17],[15,18,16,18],[15,1,16,2],[15,3,16,4],[15,5,16,9],[13,1,14,2],[13,3,14,4],[13,5,14,9],[13,10,14,10],[13,11,14,11],[13,12,14,12],[13,13,14,14],[11,12,12,12],[11,13,12,14],[10,1,10,2],[10,3,10,4],[10,5,10,10],[10,13,10,14],[10,15,10,17],[11,1,12,2],[11,3,12,4],[11,5,12,9],[11,10,12,10],[11,11,12,11],[0,1,0,18],[8,1,8,2],[8,3,8,8],[8,9,8,11],[8,13,8,18],[5,1,5,2],[5,3,5,8],[5,9,5,11],[5,13,5,18],[6,1,6,2],[6,3,6,8],[6,9,6,11],[6,13,6,18],[4,1,4,4],[4,5,4,12],[4,13,4,14],[4,15,4,18],[1,4,1,14],[7,1,7,2],[7,3,7,8],[7,9,7,11],[7,13,7,18],[2,2,2,17],[3,2,3,17]]}
[null,{"$f":"学校用申込!B2","v":"第67回中頭地区中体連新人軟式野球大会申込書"}]
[null,null,null,null,"選　手　変　更　届"]
[null,null,"※１人でも変更がある場合は全て記入し押印をして大会当日に提出する。"]
[null,null,"※原本１部、コピー4部を提出する。"]
[null,"学校名",null,null,null,{"$f":"学校用申込!$F$4:$M$4","v":0},null,null,null,null,null,null,null,"ＴＥＬ",null,{"$f":"学校用申込!P4","v":0}]
[null,"監　督",null,null,null,null,null,null,null,"（教職員・部活動指導員）",null,null,"監督連絡先"]
[null,"コーチ",null,null,null,null,null,null,null,"（教職員・部活動指導員）",null,null,"主　将"]
[null,"コーチ",null,null,null,null,null,null,null,"（教職員・外部）",null,null,"マネージャー"]
[null,"トレーナー",null,null,null,null,null,null,null,"※有資格者に限る",null,null,"スコアラー"]
[]
[null,"背番号",null,"位　置",null,"選　手　名",null,null,null,null,null,"学　年","身　長","体　重",null,"投　打",null,null,"合同チーム校名"]
[null,1,null,"投　手",null,null,null,null,null,null,null,null,null,null,null,null,"・"]
[]
[null,2,null,"捕　手",null,null,null,null,null,null,null,null,null,null,null,null,"・"]
[]
[null,3,null,"一塁手",null,null,null,null,null,null,null,null,null,null,null,null,"・"]
[]
[null,4,null,"二塁手",null,null,null,null,null,null,null,null,null,null,null,null,"・"]
[]
[null,5,null,"三塁手",null,null,null,null,null,null,null,null,null,null,null,null,"・"]
[]
[null,6,null,"遊撃手",null,null,null,null,null,null,null,null,null,null,null,null,"・"]
[]
[null,7,null,"左翼手",null,null,null,null,null,null,null,null,null,null,null,null,"・"]
[]
[null,8,null,"中堅手",null,null,null,null,null,null,null,null,null,null,null,null,"・"]
[]
[null,9,null,"右翼手",null,null,null,null,null,null,null,null,null,null,null,null,"・"]
[]
[null,10,null,"補　員",null,null,null,null,null,null,null,null,null,null,null,null,"・"]
[]
[null,11,null,"〃",null,null,null,null,null,null,null,null,null,null,null,null,"・"]
[]
[null,12,null,"〃",null,null,null,null,null,null,null,null,null,null,null,null,"・"]
[]
[null,13,null,"〃",null,null,null,null,null,null,null,null,null,null,null,null,"・"]
[]
[null,14,null,"〃",null,null,null,null,null,null,null,null,null,null,null,null,"・"]
[]
[null,15,null,"〃",null,null,null,null,null,null,null,null,null,null,null,null,"・"]
[]
[null,16,null,"〃",null,null,null,null,null,null,null,null,null,null,null,null,"・"]
[]
[null,17,null,"〃",null,null,null,null,null,null,null,null,null,null,null,null,"・"]
[]
[null,18,null,"〃",null,null,null,null,null,null,null,null,null,null,null,null,"・"]
[]
[null,19,null,"〃",null,null,null,null,null,null,null,null,null,null,null,null,"・"]
[]
[null,20,null,"〃",null,null,null,null,null,null,null,null,null,null,null,null,"・"]
[]
[null,21,null,"〃",null,null,null,null,null,null,null,null,null,null,null,null,"・"]
[]
[null,22,null,"〃",null,null,null,null,null,null,null,null,null,null,null,null,"・"]
[]
[null,23,null,"〃",null,null,null,null,null,null,null,null,null,null,null,null,"・"]
[]
[null,24,null,"〃",null,null,null,null,null,null,null,null,null,null,null,null,"・"]
[]
[null,25,null,"〃",null,null,null,null,null,null,null,null,null,null,null,null,"・"]
[]
[null,null,null,null,null,null,null,null,null,null,"上記の通り、大会参加を申し込みます。"]
[null,"令和",5,"年",null,"月",null,"日"]
[null,null,null,null,null,"中学校",null,null,null,null,"校長",null,null,null,"印"]
[]
[]
[null,"令和",5,"年",null,"月",null,"日"]
[null,null,null,null,null,"中学校",null,null,null,null,"校長",null,null,null,"印"]

{"sheet":"学校用冊子データ","index":2,"n_rows":46,"n_cols":18,"rows_kept":46,"cut":false,"hidden":false,"merged":[[0,0,0,4],[0,5,0,18],[1,0,1,2],[1,3,1,5],[2,0,2,2],[2,3,2,5],[3,0,3,2],[3,3,3,5],[1,7,1,9],[2,7,2,9],[3,7,3,9],[1,10,1,12],[1,13,1,18],[2,10,2,12],[2,13,2,18],[3,10,3,12],[3,13,3,18],[41,0,44,3],[41,4,44,16],[45,0,48,3],[45,4,48,16],[33,17,36,18],[37,17,40,18],[41,17,44,18],[45,17,48,18],[32,0,32,16],[33,0,36,3],[33,4,36,16],[37,0,40,3],[37,4,40,16],[32,17,32,18],[28,17,28,18],[29,17,29,18],[30,17,30,18],[27,8,27,10],[28,8,28,10],[5,17,5,18],[11,0,11,1],[11,2,11,3],[12,0,12,1],[12,2,12,3],[9,0,9,1],[9,2,9,3],[10,0,10,1],[10,2,10,3],[7,13,7,14],[8,0,8,1],[8,2,8,3],[8,13,8,14],[5,13,5,14],[5,15,5,16],[30,13,30,14],[29,0,29,1],[29,2,29,3],[29,13,29,14],[28,0,28,1],[28,2,28,3],[28,13,28,14],[27,0,27,1],[27,2,27,3],[27,4,27,7],[28,4,28,7],[29,4,29,7],[25,11,25,12],[28,11,28,12],[29,11,29,12],[6,0,6,1],[6,2,6,3],[6,13,6,14],[30,4,30,7],[26,0,26,1],[26,2,26,3],[25,0,25,1],[25,2,25,3],[25,13,25,14],[23,0,23,1],[23,2,23,3],[24,0,24,1],[24,2,24,3],[21,0,21,1],[21,2,21,3],[22,0,22,1],[22,2,22,3],[19,0,19,1],[29,8,29,10],[30,8,30,10],[26,11,26,12],[30,0,30,1],[30,2,30,3],[7,0,7,1],[7,2,7,3],[19,2,19,3],[20,0,20,1],[20,2,20,3],[17,0,17,1],[17,2,17,3],[18,0,18,1],[18,2,18,3],[15,0,15,1],[15,2,15,3],[16,0,16,1],[16,2,16,3],[13,0,13,1],[13,2,13,3],[14,0,14,1],[14,2,14,3],[24,4,24,7],[25,4,25,7],[26,4,26,7],[18,4,18,7],[18,8,18,10],[17,8,17,10],[5,4,5,7],[7,4,7,7],[6,4,6,7],[8,4,8,7],[20,4,20,7],[21,4,21,7],[22,4,22,7],[23,4,23,7],[19,4,19,7],[9,4,9,7],[10,4,10,7],[11,4,11,7],[12,4,12,7],[13,4,13,7],[14,4,14,7],[15,4,15,7],[16,4,16,7],[17,4,17,7],[11,11,11,12],[12,8,12,10],[13,8,13,10],[14,8,14,10],[15,8,15,10],[16,8,16,10],[6,8,6,10],[7,8,7,10],[8,8,8,10],[9,8,9,10],[10,8,10,10],[11,8,11,10],[5,8,5,10],[23,8,23,10],[24,8,24,10],[25,8,25,10],[26,8,26,10],[18,11,18,12],[5,11,5,12],[6,11,6,12],[19,11,19,12],[20,11,20,12],[21,11,21,12],[22,11,22,12],[23,11,23,12],[24,11,24,12],[12,11,12,12],[13,11,13,12],[14,11,14,12],[15,11,15,12],[16,11,16,12],[17,11,17,12],[19,8,19,10],[20,8,20,10],[21,8,21,10],[22,8,22,10],[30,11,30,12],[6,17,6,18],[8,17,8,18],[9,17,9,18],[10,17,10,18],[11,17,11,18],[12,17,12,18],[13,17,13,18],[17,13,17,14],[18,13,18,14],[9,13,9,14],[10,13,10,14],[11,13,11,14],[12,13,12,14],[13,13,13,14],[14,13,14,14],[15,13,15,14],[7,17,7,18],[14,17,14,18],[15,17,15,18],[7,11,7,12],[8,11,8,12],[9,11,9,12],[10,11,10,12],[5,0,5,1],[5,2,5,3],[16,17,16,18],[17,17,17,18],[18,17,18,18],[19,17,19,18],[24,13,24,14],[26,13,26,14],[27,13,27,14],[19,13,19,14],[20,13,20,14],[21,13,21,14],[22,13,22,14],[23,13,23,14],[26,17,26,18],[27,17,27,18],[20,17,20,18],[21,17,21,18],[22,17,22,18],[23,17,23,18],[24,17,24,18],[25,17,25,18],[16,13,16,14],[27,11,27,12]]}
["チーム名",null,null,null,null,{"$f":"学校用申込!F4","v":0}]
["監督",null,null,{"$f":"学校用申込!D5","v":0},null,null,"トレーナー",{"$f":"学校用申込!D8","v":0},null,null,"マネージャー",null,null,{"$f":"学校用申込!N7","v":0}]
["コーチ",null,null,{"$f":"学校用申込!D6","v":0},null,null,"主将",{"$f":"学校用申込!N6","v":0},null,null,"校長名",null,null,{"$f":"学校用申込!L64","v":0}]
["コーチ",null,null,{"$f":"学校用申込!D7","v":0},null,null,"スコアラー",{"$f":"学校用申込!N8","v":0},null,null,"校長名",null,null,{"$f":"学校用申込!L69","v":0}]
[]
["背番号",null,"位置",null,"選　手　名",null,null,null,"ふりがな",null,null,"学年",null,"身長",null,"投・打",null,"合同チーム学校名"]
[1,null,"投手",null,{"$f":"学校用申込!F11","v":0},null,null,null,{"$f":"学校用申込!K11","v":0},null,null,{"$f":"学校用申込!L11","v":0},null,{"$f":"学校用申込!M11","v":0},null,{"$f":"学校用申込!P11","v":0},{"$f":"学校用申込!R11","v":0},{"$f":"学校用申込!S11","v":0}]
[2,null,"捕手",null,{"$f":"学校用申込!F13","v":0},null,null,null,{"$f":"学校用申込!K13","v":0},null,null,{"$f":"学校用申込!L13","v":0},null,{"$f":"学校用申込!M13","v":0},null,{"$f":"学校用申込!P13","v":0},{"$f":"学校用申込!R13","v":0},{"$f":"学校用申込!S13","v":0}]
[3,null,"一塁手",null,{"$f":"学校用申込!F15","v":0},null,null,null,{"$f":"学校用申込!K15","v":0},null,null,{"$f":"学校用申込!L15","v":0},null,{"$f":"学校用申込!M15","v":0},null,{"$f":"学校用申込!P15","v":0},{"$f":"学校用申込!R15","v":0},{"$f":"学校用申込!S15","v":0}]
[4,null,"二塁手",null,{"$f":"学校用申込!F17","v":0},null,null,null,{"$f":"学校用申込!K17","v":0},null,null,{"$f":"学校用申込!L17","v":0},null,{"$f":"学校用申込!M17","v":0},null,{"$f":"学校用申込!P17","v":0},{"$f":"学校用申込!R17","v":0},{"$f":"学校用申込!S17","v":0}]
[5,null,"三塁手",null,{"$f":"学校用申込!F19","v":0},null,null,null,{"$f":"学校用申込!K19","v":0},null,null,{"$f":"学校用申込!L19","v":0},null,{"$f":"学校用申込!M19","v":0},null,{"$f":"学校用申込!P19","v":0},{"$f":"学校用申込!R19","v":0},{"$f":"学校用申込!S19","v":0}]
[6,null,"遊撃手",null,{"$f":"学校用申込!F21","v":0},null,null,null,{"$f":"学校用申込!K21","v":0},null,null,{"$f":"学校用申込!L21","v":0},null,{"$f":"学校用申込!M21","v":0},null,{"$f":"学校用申込!P21","v":0},{"$f":"学校用申込!R21","v":0},{"$f":"学校用申込!S21","v":0}]
[7,null,"左翼手",null,{"$f":"学校用申込!F23","v":0},null,null,null,{"$f":"学校用申込!K23","v":0},null,null,{"$f":"学校用申込!L23","v":0},null,{"$f":"学校用申込!M23","v":0},null,{"$f":"学校用申込!P23","v":0},{"$f":"学校用申込!R23","v":0},{"$f":"学校用申込!S23","v":0}]
[8,null,"中堅手",null,{"$f":"学校用申込!F25","v":0},null,null,null,{"$f":"学校用申込!K25","v":0},null,null,{"$f":"学校用申込!L25","v":0},null,{"$f":"学校用申込!M25","v":0},null,{"$f":"学校用申込!P25","v":0},{"$f":"学校用申込!R25","v":0},{"$f":"学校用申込!S25","v":0}]
[9,null,"右翼手",null,{"$f":"学校用申込!F27","v":0},null,null,null,{"$f":"学校用申込!K27","v":0},null,null,{"$f":"学校用申込!L27","v":0},null,{"$f":"学校用申込!M27","v":0},null,{"$f":"学校用申込!P27","v":0},{"$f":"学校用申込!R27","v":0},{"$f":"学校用申込!S27","v":0}]
[10,null,"補員",null,{"$f":"学校用申込!F29","v":0},null,null,null,{"$f":"学校用申込!K29","v":0},null,null,{"$f":"学校用申込!L29","v":0},null,{"$f":"学校用申込!M29","v":0},null,{"$f":"学校用申込!P29","v":0},{"$f":"学校用申込!R29","v":0},{"$f":"学校用申込!S29","v":0}]
[11,null,"〃",null,{"$f":"学校用申込!F31","v":0},null,null,null,{"$f":"学校用申込!K31","v":0},null,null,{"$f":"学校用申込!L31","v":0},null,{"$f":"学校用申込!M31","v":0},null,{"$f":"学校用申込!P31","v":0},{"$f":"学校用申込!R31","v":0},{"$f":"学校用申込!S31","v":0}]
[12,null,"〃",null,{"$f":"学校用申込!F33","v":0},null,null,null,{"$f":"学校用申込!K33","v":0},null,null,{"$f":"学校用申込!L33","v":0},null,{"$f":"学校用申込!M33","v":0},null,{"$f":"学校用申込!P33","v":0},{"$f":"学校用申込!R33","v":0},{"$f":"学校用申込!S33","v":0}]
[13,null,"〃",null,{"$f":"学校用申込!F35","v":0},null,null,null,{"$f":"学校用申込!K35","v":0},null,null,{"$f":"学校用申込!L35","v":0},null,{"$f":"学校用申込!M35","v":0},null,{"$f":"学校用申込!P35","v":0},{"$f":"学校用申込!R35","v":0},{"$f":"学校用申込!S35","v":0}]
[14,null,"〃",null,{"$f":"学校用申込!F37","v":0},null,null,null,{"$f":"学校用申込!K37","v":0},null,null,{"$f":"学校用申込!L37","v":0},null,{"$f":"学校用申込!M37","v":0},null,{"$f":"学校用申込!P37","v":0},{"$f":"学校用申込!R37","v":0},{"$f":"学校用申込!S37","v":0}]
[15,null,"〃",null,{"$f":"学校用申込!F39","v":0},null,null,null,{"$f":"学校用申込!K39","v":0},null,null,{"$f":"学校用申込!L39","v":0},null,{"$f":"学校用申込!M39","v":0},null,{"$f":"学校用申込!P39","v":0},{"$f":"学校用申込!R39","v":0},{"$f":"学校用申込!S39","v":0}]
[16,null,"〃",null,{"$f":"学校用申込!F41","v":0},null,null,null,{"$f":"学校用申込!K41","v":0},null,null,{"$f":"学校用申込!L41","v":0},null,{"$f":"学校用申込!M41","v":0},null,{"$f":"学校用申込!P41","v":0},{"$f":"学校用申込!R41","v":0},{"$f":"学校用申込!S41","v":0}]
[17,null,"〃",null,{"$f":"学校用申込!F43","v":0},null,null,null,{"$f":"学校用申込!K43","v":0},null,null,{"$f":"学校用申込!L43","v":0},null,{"$f":"学校用申込!M43","v":0},null,{"$f":"学校用申込!P43","v":0},{"$f":"学校用申込!R43","v":0},{"$f":"学校用申込!S43","v":0}]
[18,null,"〃",null,{"$f":"学校用申込!F45","v":0},null,null,null,{"$f":"学校用申込!K45","v":0},null,null,{"$f":"学校用申込!L45","v":0},null,{"$f":"学校用申込!M45","v":0},null,{"$f":"学校用申込!P45","v":0},{"$f":"学校用申込!R45","v":0},{"$f":"学校用申込!S45","v":0}]
[19,null,"〃",null,{"$f":"学校用申込!F47","v":0},null,null,null,{"$f":"学校用申込!K47","v":0},null,null,{"$f":"学校用申込!L47","v":0},null,{"$f":"学校用申込!M47","v":0},null,{"$f":"学校用申込!P47","v":0},{"$f":"学校用申込!R47","v":0},{"$f":"学校用申込!S47","v":0}]
[20,null,"〃",null,{"$f":"学校用申込!F49","v":0},null,null,null,{"$f":"学校用申込!K49","v":0},null,null,{"$f":"学校用申込!L49","v":0},null,{"$f":"学校用申込!M49","v":0},null,{"$f":"学校用申込!P49","v":0},{"$f":"学校用申込!R49","v":0},{"$f":"学校用申込!S49","v":0}]
[21,null,"〃",null,{"$f":"学校用申込!F51","v":0},null,null,null,{"$f":"学校用申込!K51","v":0},null,null,{"$f":"学校用申込!L51","v":0},null,{"$f":"学校用申込!M51","v":0},null,{"$f":"学校用申込!P51","v":0},{"$f":"学校用申込!R51","v":0},{"$f":"学校用申込!S51","v":0}]
[22,null,"〃",null,{"$f":"学校用申込!F53","v":0},null,null,null,{"$f":"学校用申込!K53","v":0},null,null,{"$f":"学校用申込!L53","v":0},null,{"$f":"学校用申込!M53","v":0},null,{"$f":"学校用申込!P53","v":0},{"$f":"学校用申込!R53","v":0},{"$f":"学校用申込!S53","v":0}]
[23,null,"〃",null,{"$f":"学校用申込!F55","v":0},null,null,null,{"$f":"学校用申込!K55","v":0},null,null,{"$f":"学校用申込!L55","v":0},null,{"$f":"学校用申込!M55","v":0},null,{"$f":"学校用申込!P55","v":0},{"$f":"学校用申込!R55","v":0},{"$f":"学校用申込!S55","v":0}]
[24,null,"〃",null,{"$f":"学校用申込!F57","v":0},null,null,null,{"$f":"学校用申込!K57","v":0},null,null,{"$f":"学校用申込!L57","v":0},null,{"$f":"学校用申込!M57","v":0},null,{"$f":"学校用申込!P57","v":0},{"$f":"学校用申込!R57","v":0},{"$f":"学校用申込!S57","v":0}]
[25,null,"〃",null,{"$f":"学校用申込!F59","v":0},null,null,null,{"$f":"学校用申込!K59","v":0},null,null,{"$f":"学校用申込!L59","v":0},null,{"$f":"学校用申込!M59","v":0},null,{"$f":"学校用申込!P59","v":0},{"$f":"学校用申込!R59","v":0},{"$f":"学校用申込!S59","v":0}]
[]
["チーム戦力分析（６０字以内）",null,null,null,null,null,null,null,null,null,null,null,null,null,null,null,null,"５段階評価"]
["チームの特色\n総合力",null,null,null,{"$f":"学校用申込!F74","v":"※「Alt＋エンターキー」での行替えをは、行わないで下さい。この文は消去して使って下さい。"},null,null,null,null,null,null,null,null,null,null,null,null,{"$f":"学校用申込!S74","v":3}]
[]
[]
[]
["打撃力",null,null,null,{"$f":"学校用申込!F78","v":0},null,null,null,null,null,null,null,null,null,null,null,null,{"$f":"学校用申込!S78","v":3}]
[]
[]
[]
["守備力",null,null,null,{"$f":"学校用申込!F82","v":0},null,null,null,null,null,null,null,null,null,null,null,null,{"$f":"学校用申込!S82","v":3}]
[]
[]
[]
["投手力",null,null,null,{"$f":"学校用申込!F86","v":0},null,null,null,null,null,null,null,null,null,null,null,null,{"$f":"学校用申込!S86","v":3}]

{"sheet":"クラブチーム用申込","index":3,"n_rows":86,"n_cols":20,"rows_kept":86,"cut":false,"hidden":false,"merged":[[81,1,84,4],[81,5,84,17],[81,18,84,18],[85,1,88,4],[85,5,88,17],[85,18,88,18],[72,1,72,17],[73,1,76,4],[73,5,76,17],[73,18,76,18],[77,1,80,4],[77,5,80,17],[77,18,80,18],[68,0,69,1],[68,2,69,6],[68,7,69,8],[68,10,69,10],[68,11,69,16],[68,17,69,17],[58,19,59,19],[58,20,59,20],[63,0,64,1],[63,10,64,10],[63,11,64,16],[63,17,64,17],[63,2,64,8],[58,12,59,12],[58,13,59,14],[58,15,59,15],[58,16,59,16],[58,17,59,17],[58,18,59,18],[56,16,57,16],[56,17,57,17],[56,18,57,18],[56,19,57,19],[56,20,57,20],[58,1,59,2],[58,3,59,4],[58,5,59,9],[58,10,59,10],[58,11,59,11],[56,1,57,2],[56,3,57,4],[56,5,57,9],[56,10,57,10],[56,11,57,11],[56,12,57,12],[56,13,57,14],[56,15,57,15],[54,12,55,12],[54,13,55,14],[54,15,55,15],[52,16,53,16],[52,17,53,17],[52,18,53,18],[52,19,53,19],[52,20,53,20],[54,1,55,2],[54,3,55,4],[54,5,55,9],[54,10,55,10],[54,11,55,11],[54,19,55,19],[54,20,55,20],[54,16,55,16],[54,17,55,17],[54,18,55,18],[52,1,53,2],[52,3,53,4],[52,5,53,9],[52,10,53,10],[52,11,53,11],[52,12,53,12],[52,13,53,14],[52,15,53,15],[50,12,51,12],[50,13,51,14],[50,15,51,15],[48,16,49,16],[48,17,49,17],[48,18,49,18],[48,19,49,19],[48,20,49,20],[50,1,51,2],[50,3,51,4],[50,5,51,9],[50,10,51,10],[50,11,51,11],[50,19,51,19],[50,20,51,20],[50,16,51,16],[50,17,51,17],[50,18,51,18],[48,1,49,2],[48,3,49,4],[48,5,49,9],[48,10,49,10],[48,11,49,11],[48,12,49,12],[48,13,49,14],[48,15,49,15],[46,12,47,12],[46,13,47,14],[46,15,47,15],[44,16,45,16],[44,17,45,17],[44,18,45,18],[44,19,45,19],[44,20,45,20],[46,1,47,2],[46,3,47,4],[46,5,47,9],[46,10,47,10],[46,11,47,11],[46,19,47,19],[46,20,47,20],[46,16,47,16],[46,17,47,17],[46,18,47,18],[44,1,45,2],[44,3,45,4],[44,5,45,9],[44,10,45,10],[44,11,45,11],[44,12,45,12],[44,13,45,14],[44,15,45,15],[42,12,43,12],[42,13,43,14],[42,15,43,15],[40,16,41,16],[40,17,41,17],[40,18,41,18],[40,19,41,19],[40,20,41,20],[42,1,43,2],[42,3,43,4],[42,5,43,9],[42,10,43,10],[42,11,43,11],[42,19,43,19],[42,20,43,20],[42,16,43,16],[42,17,43,17],[42,18,43,18],[40,1,41,2],[40,3,41,4],[40,5,41,9],[40,10,41,10],[40,11,41,11],[40,12,41,12],[40,13,41,14],[40,15,41,15],[38,12,39,12],[38,13,39,14],[38,15,39,15],[36,16,37,16],[36,17,37,17],[36,18,37,18],[36,19,37,19],[36,20,37,20],[38,1,39,2],[38,3,39,4],[38,5,39,9],[38,10,39,10],[38,11,39,11],[38,19,39,19],[38,20,39,20],[38,16,39,16],[38,17,39,17],[38,18,39,18],[36,1,37,2],[36,3,37,4],[36,5,37,9],[36,10,37,10],[36,11,37,11],[36,12,37,12],[36,13,37,14],[36,15,37,15],[34,12,35,12],[34,13,35,14],[34,15,35,15],[32,16,33,16],[32,17,33,17],[32,18,33,18],[32,19,33,19],[32,20,33,20],[34,1,35,2],[34,3,35,4],[34,5,35,9],[34,10,35,10],[34,11,35,11],[34,19,35,19],[34,20,35,20],[34,16,35,16],[34,17,35,17],[34,18,35,18],[32,1,33,2],[32,3,33,4],[32,5,33,9],[32,10,33,10],[32,11,33,11],[32,12,33,12],[32,13,33,14],[32,15,33,15],[30,12,31,12],[30,13,31,14],[30,15,31,15],[28,16,29,16],[28,17,29,17],[28,18,29,18],[28,19,29,19],[28,20,29,20],[30,1,31,2],[30,3,31,4],[30,5,31,9],[30,10,31,10],[30,11,31,11],[30,19,31,19],[30,20,31,20],[30,16,31,16],[30,17,31,17],[30,18,31,18],[28,1,29,2],[28,3,29,4],[28,5,29,9],[28,10,29,10],[28,11,29,11],[28,12,29,12],[28,13,29,14],[28,15,29,15],[26,12,27,12],[26,13,27,14],[26,15,27,15],[24,16,25,16],[24,17,25,17],[24,18,25,18],[24,19,25,19],[24,20,25,20],[26,1,27,2],[26,3,27,4],[26,5,27,9],[26,10,27,10],[26,11,27,11],[26,19,27,19],[26,20,27,20],[26,16,27,16],[26,17,27,17],[26,18,27,18],[24,1,25,2],[24,3,25,4],[24,5,25,9],[24,10,25,10],[24,11,25,11],[24,12,25,12],[24,13,25,14],[24,15,25,15],[22,12,23,12],[22,13,23,14],[22,15,23,15],[20,16,21,16],[20,17,21,17],[20,18,21,18],[20,19,21,19],[20,20,21,20],[22,1,23,2],[22,3,23,4],[22,5,23,9],[22,10,23,10],[22,11,23,11],[22,19,23,19],[22,20,23,20],[22,16,23,16],[22,17,23,17],[22,18,23,18],[20,1,21,2],[20,3,21,4],[20,5,21,9],[20,10,21,10],[20,11,21,11],[20,12,21,12],[20,13,21,14],[20,15,21,15],[18,12,19,12],[18,13,19,14],[18,15,19,15],[16,19,17,19],[16,20,17,20],[18,1,19,2],[18,3,19,4],[18,5,19,9],[18,10,19,10],[18,11,19,11],[18,19,19,19],[18,20,19,20],[18,16,19,16],[18,17,19,17],[18,18,19,18],[14,1,15,2],[14,3,15,4],[14,5,15,9],[14,10,15,10],[14,11,15,11],[14,19,15,19],[14,20,15,20],[16,1,17,2],[16,3,17,4],[16,5,17,9],[16,10,17,10],[16,11,17,11],[16,12,17,12],[16,13,17,14],[16,15,17,15],[14,12,15,12],[14,13,15,14],[14,15,15,15],[14,16,15,16],[14,17,15,17],[14,18,15,18],[16,16,17,16],[16,17,17,17],[16,18,17,18],[10,19,11,19],[10,20,11,20],[12,1,13,2],[12,3,13,4],[12,5,13,9],[12,10,13,10],[12,11,13,11],[12,12,13,12],[12,13,13,14],[12,15,13,15],[10,12,11,12],[10,13,11,14],[10,15,11,15],[10,16,11,16],[10,17,11,17],[10,18,11,18],[12,16,13,16],[12,17,13,17],[12,18,13,18],[12,19,13,19],[12,20,13,20],[9,1,9,2],[9,3,9,4],[9,5,9,9],[9,13,9,14],[9,15,9,17],[10,1,11,2],[10,3,11,4],[10,5,11,9],[10,10,11,10],[10,11,11,11],[7,1,7,2],[7,3,7,8],[7,9,7,11],[7,13,7,18],[6,3,6,11],[4,1,4,2],[4,13,4,18],[5,1,5,2],[5,13,5,18],[4,3,4,11],[5,3,5,11],[0,1,0,17],[0,19,2,20],[1,1,1,18],[3,1,3,4],[3,5,3,12],[3,13,3,14],[3,15,3,18],[3,19,3,20],[6,1,6,2],[6,13,6,18]]}
[null,null,null,null,null,null,null,null,null,null,null,null,null,null,null,null,null,null,null,"下部の情報公開とは、冊子用の情報を公開するということです。連絡先は冊子に載せません。"]
[null,"第67回中頭地区中体連新人軟式野球大会申込書"]
[]
[null,"チーム名",null,null,null,null,null,null,null,null,null,null,null,"TEL",null,null,null,null,null,"情報公開を承諾しますか"]
[null,"監　督",null,null,null,null,null,null,null,null,null,null,"監督連絡先"]
[null,"コーチ",null,null,null,null,null,null,null,null,null,null,"主　将"]
[null,"コーチ",null,null,null,null,null,null,null,null,null,null,"マネージャー"]
[null,"トレーナー",null,null,null,null,null,null,null,"※有資格者に限る",null,null,"スコアラー"]
[]
[null,"背番号",null,"位　置",null,"選　手　名",null,null,null,null,"ふりがな","学　年","身　長","体　重",null,"投　打",null,null,"学校名"]
[null,1,null,"投　手",null,null,null,null,null,null,null,null,null,null,null,null,"・"]
[]
[null,2,null,"捕　手",null,null,null,null,null,null,null,null,null,null,null,null,"・"]
[]
[null,3,null,"一塁手",null,null,null,null,null,null,null,null,null,null,null,null,"・"]
[]
[null,4,null,"二塁手",null,null,null,null,null,null,null,null,null,null,null,null,"・"]
[]
[null,5,null,"三塁手",null,null,null,null,null,null,null,null,null,null,null,null,"・"]
[]
[null,6,null,"遊撃手",null,null,null,null,null,null,null,null,null,null,null,null,"・"]
[]
[null,7,null,"左翼手",null,null,null,null,null,null,null,null,null,null,null,null,"・"]
[]
[null,8,null,"中堅手",null,null,null,null,null,null,null,null,null,null,null,null,"・"]
[]
[null,9,null,"右翼手",null,null,null,null,null,null,null,null,null,null,null,null,"・"]
[]
[null,10,null,"補　員",null,null,null,null,null,null,null,null,null,null,null,null,"・"]
[]
[null,11,null,"〃",null,null,null,null,null,null,null,null,null,null,null,null,"・"]
[]
[null,12,null,"〃",null,null,null,null,null,null,null,null,null,null,null,null,"・"]
[]
[null,13,null,"〃",null,null,null,null,null,null,null,null,null,null,null,null,"・"]
[]
[null,14,null,"〃",null,null,null,null,null,null,null,null,null,null,null,null,"・"]
[]
[null,15,null,"〃",null,null,null,null,null,null,null,null,null,null,null,null,"・"]
[]
[null,16,null,"〃",null,null,null,null,null,null,null,null,null,null,null,null,"・"]
[]
[null,17,null,"〃",null,null,null,null,null,null,null,null,null,null,null,null,"・"]
[]
[null,18,null,"〃",null,null,null,null,null,null,null,null,null,null,null,null,"・"]
[]
[null,19,null,"〃",null,null,null,null,null,null,null,null,null,null,null,null,"・"]
[]
[null,20,null,"〃",null,null,null,null,null,null,null,null,null,null,null,null,"・"]
[]
[null,21,null,"〃",null,null,null,null,null,null,null,null,null,null,null,null,"・"]
[]
[null,22,null,"〃",null,null,null,null,null,null,null,null,null,null,null,null,"・"]
[]
[null,23,null,"〃",null,null,null,null,null,null,null,null,null,null,null,null,"・"]
[]
[null,24,null,"〃",null,null,null,null,null,null,null,null,null,null,null,null,"・"]
[]
[null,25,null,"〃",null,null,null,null,null,null,null,null,null,null,null,null,"・"]
[]
[]
[null,null,null,null,null,null,null,null,null,null,"上記の通り、大会参加を申し込みます。"]
[null,"令和",5,"年",null,"月",null,"日"]
["チーム名",null,null,null,null,null,null,null,null,null,"代表者",null,null,null,null,null,null,"印"]
[]
[]
[null,null,null,null,null,null,null,null,null,null,"上記の通り、大会参加を申し込みます。"]
[null,"令和",5,"年",null,"月",null,"日"]
["学校名",null,null,null,null,null,null,"中学校",null,null,"学校長",null,null,null,null,null,null,"印"]
[]
[]
[]
[null,"チーム戦力分析（６０字以内）",null,null,null,null,null,null,null,null,null,null,null,null,null,null,null,null,"５段階評価"]
[null,"チームの特色\n総合力",null,null,null,"※「Alt＋エンターキー」での行替えをは、行わないで下さい。この文は消去して使って下さい。",null,null,null,null,null,null,null,null,null,null,null,null,3]
[]
[]
[]
[null,"打撃力",null,null,null,null,null,null,null,null,null,null,null,null,null,null,null,null,3]
[]
[]
[]
[null,"守備力",null,null,null,null,null,null,null,null,null,null,null,null,null,null,null,null,3]
[]
[]
[]
[null,"投手力",null,null,null,null,null,null,null,null,null,null,null,null,null,null,null,null,3]

{"sheet":"クラブチーム用選手変更届","index":4,"n_rows":64,"n_cols":19,"rows_kept":64,"cut":false,"hidden":false,"merged":[[63,0,64,1],[63,2,64,7],[63,10,64,10],[63,11,64,13],[63,14,64,15],[66,2,67,4],[66,5,67,7],[66,10,67,10],[66,11,67,15],[59,12,60,12],[59,13,60,14],[59,15,60,15],[59,16,60,16],[59,17,60,17],[59,18,60,18],[57,13,58,14],[57,15,58,15],[57,16,58,16],[57,17,58,17],[57,18,58,18],[57,12,58,12],[59,1,60,2],[59,3,60,4],[59,5,60,9],[59,10,60,10],[59,11,60,11],[57,1,58,2],[57,3,58,4],[57,5,58,9],[57,10,58,10],[57,11,58,11],[55,12,56,12],[55,13,56,14],[55,15,56,15],[55,16,56,16],[55,17,56,17],[55,18,56,18],[53,13,54,14],[53,15,54,15],[53,16,54,16],[53,17,54,17],[53,18,54,18],[53,12,54,12],[55,1,56,2],[55,3,56,4],[55,5,56,9],[55,10,56,10],[55,11,56,11],[53,1,54,2],[53,3,54,4],[53,5,54,9],[53,10,54,10],[53,11,54,11],[51,12,52,12],[51,13,52,14],[51,15,52,15],[51,16,52,16],[51,17,52,17],[51,18,52,18],[49,13,50,14],[49,15,50,15],[49,16,50,16],[49,17,50,17],[49,18,50,18],[49,12,50,12],[51,1,52,2],[51,3,52,4],[51,5,52,9],[51,10,52,10],[51,11,52,11],[49,1,50,2],[49,3,50,4],[49,5,50,9],[49,10,50,10],[49,11,50,11],[47,12,48,12],[47,13,48,14],[47,15,48,15],[47,16,48,16],[47,17,48,17],[47,18,48,18],[45,13,46,14],[45,15,46,15],[45,16,46,16],[45,17,46,17],[45,18,46,18],[45,12,46,12],[47,1,48,2],[47,3,48,4],[47,5,48,9],[47,10,48,10],[47,11,48,11],[45,1,46,2],[45,3,46,4],[45,5,46,9],[45,10,46,10],[45,11,46,11],[43,12,44,12],[43,13,44,14],[43,15,44,15],[43,16,44,16],[43,17,44,17],[43,18,44,18],[41,13,42,14],[41,15,42,15],[41,16,42,16],[41,17,42,17],[41,18,42,18],[41,12,42,12],[43,1,44,2],[43,3,44,4],[43,5,44,9],[43,10,44,10],[43,11,44,11],[41,1,42,2],[41,3,42,4],[41,5,42,9],[41,10,42,10],[41,11,42,11],[39,12,40,12],[39,13,40,14],[39,15,40,15],[39,16,40,16],[39,17,40,17],[39,18,40,18],[37,13,38,14],[37,15,38,15],[37,16,38,16],[37,17,38,17],[37,18,38,18],[37,12,38,12],[39,1,40,2],[39,3,40,4],[39,5,40,9],[39,10,40,10],[39,11,40,11],[37,1,38,2],[37,3,38,4],[37,5,38,9],[37,10,38,10],[37,11,38,11],[35,12,36,12],[35,13,36,14],[35,15,36,15],[35,16,36,16],[35,17,36,17],[35,18,36,18],[33,13,34,14],[33,15,34,15],[33,16,34,16],[33,17,34,17],[33,18,34,18],[33,12,34,12],[35,1,36,2],[35,3,36,4],[35,5,36,9],[35,10,36,10],[35,11,36,11],[33,1,34,2],[33,3,34,4],[33,5,34,9],[33,10,34,10],[33,11,34,11],[31,12,32,12],[31,13,32,14],[31,15,32,15],[31,16,32,16],[31,17,32,17],[31,18,32,18],[29,13,30,14],[29,15,30,15],[29,16,30,16],[29,17,30,17],[29,18,30,18],[29,12,30,12],[31,1,32,2],[31,3,32,4],[31,5,32,9],[31,10,32,10],[31,11,32,11],[29,1,30,2],[29,3,30,4],[29,5,30,9],[29,10,30,10],[29,11,30,11],[27,12,28,12],[27,13,28,14],[27,15,28,15],[27,16,28,16],[27,17,28,17],[27,18,28,18],[25,13,26,14],[25,15,26,15],[25,16,26,16],[25,17,26,17],[25,18,26,18],[25,12,26,12],[27,1,28,2],[27,3,28,4],[27,5,28,9],[27,10,28,10],[27,11,28,11],[25,1,26,2],[25,3,26,4],[25,5,26,9],[25,10,26,10],[25,11,26,11],[23,12,24,12],[23,13,24,14],[23,15,24,15],[23,16,24,16],[23,17,24,17],[23,18,24,18],[21,13,22,14],[21,15,22,15],[21,16,22,16],[21,17,22,17],[21,18,22,18],[21,12,22,12],[23,1,24,2],[23,3,24,4],[23,5,24,9],[23,10,24,10],[23,11,24,11],[21,1,22,2],[21,3,22,4],[21,5,22,9],[21,10,22,10],[21,11,22,11],[19,12,20,12],[19,13,20,14],[19,15,20,15],[19,16,20,16],[19,17,20,17],[19,18,20,18],[17,13,18,14],[17,15,18,15],[17,16,18,16],[17,17,18,17],[17,18,18,18],[17,12,18,12],[19,1,20,2],[19,3,20,4],[19,5,20,9],[19,10,20,10],[19,11,20,11],[17,1,18,2],[17,3,18,4],[17,5,18,9],[17,10,18,10],[17,11,18,11],[15,12,16,12],[15,13,16,14],[15,15,16,15],[15,16,16,16],[15,17,16,17],[15,18,16,18],[13,13,14,14],[13,15,14,15],[13,16,14,16],[13,17,14,17],[13,18,14,18],[13,12,14,12],[15,1,16,2],[15,3,16,4],[15,5,16,9],[15,10,16,10],[15,11,16,11],[13,1,14,2],[13,3,14,4],[13,5,14,9],[13,10,14,10],[13,11,14,11],[11,12,12,12],[11,13,12,14],[11,15,12,15],[11,16,12,16],[11,17,12,17],[11,18,12,18],[10,1,10,2],[10,3,10,4],[10,5,10,10],[10,13,10,14],[10,15,10,17],[11,1,12,2],[11,3,12,4],[11,5,12,9],[11,10,12,10],[11,11,12,11],[8,1,8,2],[8,3,8,8],[8,9,8,11],[8,13,8,18],[7,3,7,11],[5,1,5,2],[5,13,5,18],[6,1,6,2],[6,13,6,18],[5,3,5,11],[6,3,6,11],[0,1,0,18],[1,4,1,14],[2,2,2,17],[3,2,3,17],[4,1,4,4],[4,5,4,12],[4,13,4,14],[4,15,4,18],[7,1,7,2],[7,13,7,18]]}
[null,{"$f":"クラブチーム用申込!B2","v":"第67回中頭地区中体連新人軟式野球大会申込書"}]
[null,null,null,null,"選　手　変　更　届"]
[null,null,"※１人でも変更がある場合は全て記入し押印をして大会当日に提出する。"]
[null,null,"※原本１部、コピー4部を提出する。"]
[null,"チーム名",null,null,null,{"$f":"クラブチーム用申込!$F$4:$M$4","v":0},null,null,null,null,null,null,null,"ＴＥＬ",null,{"$f":"クラブチーム用申込!P4","v":0}]
[null,"監　督",null,null,null,null,null,null,null,null,null,null,"監督連絡先"]
[null,"コーチ",null,null,null,null,null,null,null,null,null,null,"主　将"]
[null,"コーチ",null,null,null,null,null,null,null,null,null,null,"マネージャー"]
[null,"トレーナー",null,null,null,null,null,null,null,"※有資格者に限る",null,null,"スコアラー"]
[]
[null,"背番号",null,"位　置",null,"選　手　名",null,null,null,null,null,"学　年","身　長","体　重",null,"投　打",null,null,"学校名"]
[null,1,null,"投　手",null,null,null,null,null,null,null,null,null,null,null,null,"・"]
[]
[null,2,null,"捕　手",null,null,null,null,null,null,null,null,null,null,null,null,"・"]
[]
[null,3,null,"一塁手",null,null,null,null,null,null,null,null,null,null,null,null,"・"]
[]
[null,4,null,"二塁手",null,null,null,null,null,null,null,null,null,null,null,null,"・"]
[]
[null,5,null,"三塁手",null,null,null,null,null,null,null,null,null,null,null,null,"・"]
[]
[null,6,null,"遊撃手",null,null,null,null,null,null,null,null,null,null,null,null,"・"]
[]
[null,7,null,"左翼手",null,null,null,null,null,null,null,null,null,null,null,null,"・"]
[]
[null,8,null,"中堅手",null,null,null,null,null,null,null,null,null,null,null,null,"・"]
[]
[null,9,null,"右翼手",null,null,null,null,null,null,null,null,null,null,null,null,"・"]
[]
[null,10,null,"補　員",null,null,null,null,null,null,null,null,null,null,null,null,"・"]
[]
[null,11,null,"〃",null,null,null,null,null,null,null,null,null,null,null,null,"・"]
[]
[null,12,null,"〃",null,null,null,null,null,null,null,null,null,null,null,null,"・"]
[]
[null,13,null,"〃",null,null,null,null,null,null,null,null,null,null,null,null,"・"]
[]
[null,14,null,"〃",null,null,null,null,null,null,null,null,null,null,null,null,"・"]
[]
[null,15,null,"〃",null,null,null,null,null,null,null,null,null,null,null,null,"・"]
[]
[null,16,null,"〃",null,null,null,null,null,null,null,null,null,null,null,null,"・"]
[]
[null,17,null,"〃",null,null,null,null,null,null,null,null,null,null,null,null,"・"]
[]
[null,18,null,"〃",null,null,null,null,null,null,null,null,null,null,null,null,"・"]
[]
[null,19,null,"〃",null,null,null,null,null,null,null,null,null,null,null,null,"・"]
[]
[null,20,null,"〃",null,null,null,null,null,null,null,null,null,null,null,null,"・"]
[]
[null,21,null,"〃",null,null,null,null,null,null,null,null,null,null,null,null,"・"]
[]
[null,22,null,"〃",null,null,null,null,null,null,null,null,null,null,null,null,"・"]
[]
[null,23,null,"〃",null,null,null,null,null,null,null,null,null,null,null,null,"・"]
[]
[null,24,null,"〃",null,null,null,null,null,null,null,null,null,null,null,null,"・"]
[]
[null,25,null,"〃",null,null,null,null,null,null,null,null,null,null,null,null,"・"]
[]
[null,null,null,null,null,null,null,null,null,null,"上記の通り、大会参加を申し込みます。"]
[null,"令和",5,"年",null,"月",null,"日"]
["チーム名",null,null,null,null,null,null,null,null,null,"代表者",{"$f":"クラブチーム用申込!L64","v":0},null,null,"印"]

{"sheet":"クラブチーム用冊子データ","index":5,"n_rows":46,"n_cols":18,"rows_kept":46,"cut":false,"hidden":false,"merged":[[41,0,44,3],[41,4,44,16],[41,17,44,18],[45,0,48,3],[45,4,48,16],[45,17,48,18],[32,0,32,16],[32,17,32,18],[33,0,36,3],[33,4,36,16],[33,17,36,18],[37,0,40,3],[37,4,40,16],[37,17,40,18],[29,17,29,18],[30,0,30,1],[30,2,30,3],[30,4,30,7],[30,8,30,10],[30,11,30,12],[30,13,30,14],[30,17,30,18],[29,0,29,1],[29,2,29,3],[29,4,29,7],[29,8,29,10],[29,11,29,12],[29,13,29,14],[27,17,27,18],[28,0,28,1],[28,2,28,3],[28,4,28,7],[28,8,28,10],[28,11,28,12],[28,13,28,14],[28,17,28,18],[27,0,27,1],[27,2,27,3],[27,4,27,7],[27,8,27,10],[27,11,27,12],[27,13,27,14],[25,17,25,18],[26,0,26,1],[26,2,26,3],[26,4,26,7],[26,8,26,10],[26,11,26,12],[26,13,26,14],[26,17,26,18],[25,0,25,1],[25,2,25,3],[25,4,25,7],[25,8,25,10],[25,11,25,12],[25,13,25,14],[23,17,23,18],[24,0,24,1],[24,2,24,3],[24,4,24,7],[24,8,24,10],[24,11,24,12],[24,13,24,14],[24,17,24,18],[23,0,23,1],[23,2,23,3],[23,4,23,7],[23,8,23,10],[23,11,23,12],[23,13,23,14],[21,17,21,18],[22,0,22,1],[22,2,22,3],[22,4,22,7],[22,8,22,10],[22,11,22,12],[22,13,22,14],[22,17,22,18],[21,0,21,1],[21,2,21,3],[21,4,21,7],[21,8,21,10],[21,11,21,12],[21,13,21,14],[19,17,19,18],[20,0,20,1],[20,2,20,3],[20,4,20,7],[20,8,20,10],[20,11,20,12],[20,13,20,14],[20,17,20,18],[19,0,19,1],[19,2,19,3],[19,4,19,7],[19,8,19,10],[19,11,19,12],[19,13,19,14],[17,17,17,18],[18,0,18,1],[18,2,18,3],[18,4,18,7],[18,8,18,10],[18,11,18,12],[18,13,18,14],[18,17,18,18],[17,0,17,1],[17,2,17,3],[17,4,17,7],[17,8,17,10],[17,11,17,12],[17,13,17,14],[15,17,15,18],[16,0,16,1],[16,2,16,3],[16,4,16,7],[16,8,16,10],[16,11,16,12],[16,13,16,14],[16,17,16,18],[15,0,15,1],[15,2,15,3],[15,4,15,7],[15,8,15,10],[15,11,15,12],[15,13,15,14],[13,17,13,18],[14,0,14,1],[14,2,14,3],[14,4,14,7],[14,8,14,10],[14,11,14,12],[14,13,14,14],[14,17,14,18],[13,0,13,1],[13,2,13,3],[13,4,13,7],[13,8,13,10],[13,11,13,12],[13,13,13,14],[11,17,11,18],[12,0,12,1],[12,2,12,3],[12,4,12,7],[12,8,12,10],[12,11,12,12],[12,13,12,14],[12,17,12,18],[11,0,11,1],[11,2,11,3],[11,4,11,7],[11,8,11,10],[11,11,11,12],[11,13,11,14],[9,17,9,18],[10,0,10,1],[10,2,10,3],[10,4,10,7],[10,8,10,10],[10,11,10,12],[10,13,10,14],[10,17,10,18],[9,0,9,1],[9,2,9,3],[9,4,9,7],[9,8,9,10],[9,11,9,12],[9,13,9,14],[7,17,7,18],[8,0,8,1],[8,2,8,3],[8,4,8,7],[8,8,8,10],[8,11,8,12],[8,13,8,14],[8,17,8,18],[7,0,7,1],[7,2,7,3],[7,4,7,7],[7,8,7,10],[7,11,7,12],[7,13,7,14],[3,0,3,2],[3,3,3,5],[3,7,3,9],[3,10,3,12],[3,13,3,18],[5,15,5,16],[5,17,5,18],[6,0,6,1],[6,2,6,3],[6,4,6,7],[6,8,6,10],[6,11,6,12],[6,13,6,14],[6,17,6,18],[5,0,5,1],[5,2,5,3],[5,4,5,7],[5,8,5,10],[5,11,5,12],[5,13,5,14],[0,0,0,4],[0,5,0,18],[1,0,1,2],[1,3,1,5],[1,7,1,9],[1,10,1,12],[1,13,1,18],[2,0,2,2],[2,3,2,5],[2,7,2,9],[2,10,2,12],[2,13,2,18]]}
["チーム名",null,null,null,null,{"$f":"クラブチーム用申込!F4","v":0}]
["監督",null,null,{"$f":"クラブチーム用申込!D5","v":0},null,null,"トレーナー",{"$f":"クラブチーム用申込!D8","v":0},null,null,"マネージャー",null,null,{"$f":"クラブチーム用申込!N7","v":0}]
["コーチ",null,null,{"$f":"クラブチーム用申込!D6","v":0},null,null,"主将",{"$f":"クラブチーム用申込!N6","v":0}]
["コーチ",null,null,{"$f":"クラブチーム用申込!D7","v":0},null,null,"スコアラー",{"$f":"クラブチーム用申込!N8","v":0}]
[]
["背番号",null,"位置",null,"選　手　名",null,null,null,"ふりがな",null,null,"学年",null,"身長",null,"投・打",null,"学校名"]
[1,null,"投手",null,{"$f":"クラブチーム用申込!F11","v":0},null,null,null,{"$f":"クラブチーム用申込!K11","v":0},null,null,{"$f":"クラブチーム用申込!L11","v":0},null,{"$f":"クラブチーム用申込!M11","v":0},null,{"$f":"クラブチーム用申込!P11","v":0},{"$f":"クラブチーム用申込!R11","v":0},{"$f":"クラブチーム用申込!S11","v":0}]
[2,null,"捕手",null,{"$f":"クラブチーム用申込!F13","v":0},null,null,null,{"$f":"クラブチーム用申込!K13","v":0},null,null,{"$f":"クラブチーム用申込!L13","v":0},null,{"$f":"クラブチーム用申込!M13","v":0},null,{"$f":"クラブチーム用申込!P13","v":0},{"$f":"クラブチーム用申込!R13","v":0},{"$f":"クラブチーム用申込!S13","v":0}]
[3,null,"一塁手",null,{"$f":"クラブチーム用申込!F15","v":0},null,null,null,{"$f":"クラブチーム用申込!K15","v":0},null,null,{"$f":"クラブチーム用申込!L15","v":0},null,{"$f":"クラブチーム用申込!M15","v":0},null,{"$f":"クラブチーム用申込!P15","v":0},{"$f":"クラブチーム用申込!R15","v":0},{"$f":"クラブチーム用申込!S15","v":0}]
[4,null,"二塁手",null,{"$f":"クラブチーム用申込!F17","v":0},null,null,null,{"$f":"クラブチーム用申込!K17","v":0},null,null,{"$f":"クラブチーム用申込!L17","v":0},null,{"$f":"クラブチーム用申込!M17","v":0},null,{"$f":"クラブチーム用申込!P17","v":0},{"$f":"クラブチーム用申込!R17","v":0},{"$f":"クラブチーム用申込!S17","v":0}]
[5,null,"三塁手",null,{"$f":"クラブチーム用申込!F19","v":0},null,null,null,{"$f":"クラブチーム用申込!K19","v":0},null,null,{"$f":"クラブチーム用申込!L19","v":0},null,{"$f":"クラブチーム用申込!M19","v":0},null,{"$f":"クラブチーム用申込!P19","v":0},{"$f":"クラブチーム用申込!R19","v":0},{"$f":"クラブチーム用申込!S19","v":0}]
[6,null,"遊撃手",null,{"$f":"クラブチーム用申込!F21","v":0},null,null,null,{"$f":"クラブチーム用申込!K21","v":0},null,null,{"$f":"クラブチーム用申込!L21","v":0},null,{"$f":"クラブチーム用申込!M21","v":0},null,{"$f":"クラブチーム用申込!P21","v":0},{"$f":"クラブチーム用申込!R21","v":0},{"$f":"クラブチーム用申込!S21","v":0}]
[7,null,"左翼手",null,{"$f":"クラブチーム用申込!F23","v":0},null,null,null,{"$f":"クラブチーム用申込!K23","v":0},null,null,{"$f":"クラブチーム用申込!L23","v":0},null,{"$f":"クラブチーム用申込!M23","v":0},null,{"$f":"クラブチーム用申込!P23","v":0},{"$f":"クラブチーム用申込!R23","v":0},{"$f":"クラブチーム用申込!S23","v":0}]
[8,null,"中堅手",null,{"$f":"クラブチーム用申込!F25","v":0},null,null,null,{"$f":"クラブチーム用申込!K25","v":0},null,null,{"$f":"クラブチーム用申込!L25","v":0},null,{"$f":"クラブチーム用申込!M25","v":0},null,{"$f":"クラブチーム用申込!P25","v":0},{"$f":"クラブチーム用申込!R25","v":0},{"$f":"クラブチーム用申込!S25","v":0}]
[9,null,"右翼手",null,{"$f":"クラブチーム用申込!F27","v":0},null,null,null,{"$f":"クラブチーム用申込!K27","v":0},null,null,{"$f":"クラブチーム用申込!L27","v":0},null,{"$f":"クラブチーム用申込!M27","v":0},null,{"$f":"クラブチーム用申込!P27","v":0},{"$f":"クラブチーム用申込!R27","v":0},{"$f":"クラブチーム用申込!S27","v":0}]
[10,null,"補員",null,{"$f":"クラブチーム用申込!F29","v":0},null,null,null,{"$f":"クラブチーム用申込!K29","v":0},null,null,{"$f":"クラブチーム用申込!L29","v":0},null,{"$f":"クラブチーム用申込!M29","v":0},null,{"$f":"クラブチーム用申込!P29","v":0},{"$f":"クラブチーム用申込!R29","v":0},{"$f":"クラブチーム用申込!S29","v":0}]
[11,null,"〃",null,{"$f":"クラブチーム用申込!F31","v":0},null,null,null,{"$f":"クラブチーム用申込!K31","v":0},null,null,{"$f":"クラブチーム用申込!L31","v":0},null,{"$f":"クラブチーム用申込!M31","v":0},null,{"$f":"クラブチーム用申込!P31","v":0},{"$f":"クラブチーム用申込!R31","v":0},{"$f":"クラブチーム用申込!S31","v":0}]
[12,null,"〃",null,{"$f":"クラブチーム用申込!F33","v":0},null,null,null,{"$f":"クラブチーム用申込!K33","v":0},null,null,{"$f":"クラブチーム用申込!L33","v":0},null,{"$f":"クラブチーム用申込!M33","v":0},null,{"$f":"クラブチーム用申込!P33","v":0},{"$f":"クラブチーム用申込!R33","v":0},{"$f":"クラブチーム用申込!S33","v":0}]
[13,null,"〃",null,{"$f":"クラブチーム用申込!F35","v":0},null,null,null,{"$f":"クラブチーム用申込!K35","v":0},null,null,{"$f":"クラブチーム用申込!L35","v":0},null,{"$f":"クラブチーム用申込!M35","v":0},null,{"$f":"クラブチーム用申込!P35","v":0},{"$f":"クラブチーム用申込!R35","v":0},{"$f":"クラブチーム用申込!S35","v":0}]
[14,null,"〃",null,{"$f":"クラブチーム用申込!F37","v":0},null,null,null,{"$f":"クラブチーム用申込!K37","v":0},null,null,{"$f":"クラブチーム用申込!L37","v":0},null,{"$f":"クラブチーム用申込!M37","v":0},null,{"$f":"クラブチーム用申込!P37","v":0},{"$f":"クラブチーム用申込!R37","v":0},{"$f":"クラブチーム用申込!S37","v":0}]
[15,null,"〃",null,{"$f":"クラブチーム用申込!F39","v":0},null,null,null,{"$f":"クラブチーム用申込!K39","v":0},null,null,{"$f":"クラブチーム用申込!L39","v":0},null,{"$f":"クラブチーム用申込!M39","v":0},null,{"$f":"クラブチーム用申込!P39","v":0},{"$f":"クラブチーム用申込!R39","v":0},{"$f":"クラブチーム用申込!S39","v":0}]
[16,null,"〃",null,{"$f":"クラブチーム用申込!F41","v":0},null,null,null,{"$f":"クラブチーム用申込!K41","v":0},null,null,{"$f":"クラブチーム用申込!L41","v":0},null,{"$f":"クラブチーム用申込!M41","v":0},null,{"$f":"クラブチーム用申込!P41","v":0},{"$f":"クラブチーム用申込!R41","v":0},{"$f":"クラブチーム用申込!S41","v":0}]
[17,null,"〃",null,{"$f":"クラブチーム用申込!F43","v":0},null,null,null,{"$f":"クラブチーム用申込!K43","v":0},null,null,{"$f":"クラブチーム用申込!L43","v":0},null,{"$f":"クラブチーム用申込!M43","v":0},null,{"$f":"クラブチーム用申込!P43","v":0},{"$f":"クラブチーム用申込!R43","v":0},{"$f":"クラブチーム用申込!S43","v":0}]
[18,null,"〃",null,{"$f":"クラブチーム用申込!F45","v":0},null,null,null,{"$f":"クラブチーム用申込!K45","v":0},null,null,{"$f":"クラブチーム用申込!L45","v":0},null,{"$f":"クラブチーム用申込!M45","v":0},null,{"$f":"クラブチーム用申込!P45","v":0},{"$f":"クラブチーム用申込!R45","v":0},{"$f":"クラブチーム用申込!S45","v":0}]
[19,null,"〃",null,{"$f":"クラブチーム用申込!F47","v":0},null,null,null,{"$f":"クラブチーム用申込!K47","v":0},null,null,{"$f":"クラブチーム用申込!L47","v":0},null,{"$f":"クラブチーム用申込!M47","v":0},null,{"$f":"クラブチーム用申込!P47","v":0},{"$f":"クラブチーム用申込!R47","v":0},{"$f":"クラブチーム用申込!S47","v":0}]
[20,null,"〃",null,{"$f":"クラブチーム用申込!F49","v":0},null,null,null,{"$f":"クラブチーム用申込!K49","v":0},null,null,{"$f":"クラブチーム用申込!L49","v":0},null,{"$f":"クラブチーム用申込!M49","v":0},null,{"$f":"クラブチーム用申込!P49","v":0},{"$f":"クラブチーム用申込!R49","v":0},{"$f":"クラブチーム用申込!S49","v":0}]
[21,null,"〃",null,{"$f":"クラブチーム用申込!F51","v":0},null,null,null,{"$f":"クラブチーム用申込!K51","v":0},null,null,{"$f":"クラブチーム用申込!L51","v":0},null,{"$f":"クラブチーム用申込!M51","v":0},null,{"$f":"クラブチーム用申込!P51","v":0},{"$f":"クラブチーム用申込!R51","v":0},{"$f":"クラブチーム用申込!S51","v":0}]
[22,null,"〃",null,{"$f":"クラブチーム用申込!F53","v":0},null,null,null,{"$f":"クラブチーム用申込!K53","v":0},null,null,{"$f":"クラブチーム用申込!L53","v":0},null,{"$f":"クラブチーム用申込!M53","v":0},null,{"$f":"クラブチーム用申込!P53","v":0},{"$f":"クラブチーム用申込!R53","v":0},{"$f":"クラブチーム用申込!S53","v":0}]
[23,null,"〃",null,{"$f":"クラブチーム用申込!F55","v":0},null,null,null,{"$f":"クラブチーム用申込!K55","v":0},null,null,{"$f":"クラブチーム用申込!L55","v":0},null,{"$f":"クラブチーム用申込!M55","v":0},null,{"$f":"クラブチーム用申込!P55","v":0},{"$f":"クラブチーム用申込!R55","v":0},{"$f":"クラブチーム用申込!S55","v":0}]
[24,null,"〃",null,{"$f":"クラブチーム用申込!F57","v":0},null,null,null,{"$f":"クラブチーム用申込!K57","v":0},null,null,{"$f":"クラブチーム用申込!L57","v":0},null,{"$f":"クラブチーム用申込!M57","v":0},null,{"$f":"クラブチーム用申込!P57","v":0},{"$f":"クラブチーム用申込!R57","v":0},{"$f":"クラブチーム用申込!S57","v":0}]
[25,null,"〃",null,{"$f":"クラブチーム用申込!F59","v":0},null,null,null,{"$f":"クラブチーム用申込!K59","v":0},null,null,{"$f":"クラブチーム用申込!L59","v":0},null,{"$f":"クラブチーム用申込!M59","v":0},null,{"$f":"クラブチーム用申込!P59","v":0},{"$f":"クラブチーム用申込!R59","v":0},{"$f":"クラブチーム用申込!S59","v":0}]
[]
["チーム戦力分析（６０字以内）",null,null,null,null,null,null,null,null,null,null,null,null,null,null,null,null,"５段階評価"]
["チームの特色\n総合力",null,null,null,{"$f":"クラブチーム用申込!F74","v":"※「Alt＋エンターキー」での行替えをは、行わないで下さい。この文は消去して使って下さい。"},null,null,null,null,null,null,null,null,null,null,null,null,{"$f":"クラブチーム用申込!S74","v":3}]
[]
[]
[]
["打撃力",null,null,null,{"$f":"クラブチーム用申込!F78","v":0},null,null,null,null,null,null,null,null,null,null,null,null,{"$f":"クラブチーム用申込!S78","v":3}]
[]
[]
[]
["守備力",null,null,null,{"$f":"クラブチーム用申込!F82","v":0},null,null,null,null,null,null,null,null,null,null,null,null,{"$f":"クラブチーム用申込!S82","v":3}]
[]
[]
[]
["投手力",null,null,null,{"$f":"クラブチーム用申込!F86","v":0},null,null,null,null,null,null,null,null,null,null,null,null,{"$f":"クラブチーム用申込!S86","v":3}]